BEGIN:VCALENDAR
VERSION:2.0
PRODID:-//Shane O Fearghail - ECPv6.15.20//NONSGML v1.0//EN
CALSCALE:GREGORIAN
METHOD:PUBLISH
X-ORIGINAL-URL:https://shaneofearghail.com
X-WR-CALDESC:Events for Shane O Fearghail
REFRESH-INTERVAL;VALUE=DURATION:PT1H
X-Robots-Tag:noindex
X-PUBLISHED-TTL:PT1H
BEGIN:VTIMEZONE
TZID:Europe/Vienna
BEGIN:DAYLIGHT
TZOFFSETFROM:+0100
TZOFFSETTO:+0200
TZNAME:CEST
DTSTART:20230326T010000
END:DAYLIGHT
BEGIN:STANDARD
TZOFFSETFROM:+0200
TZOFFSETTO:+0100
TZNAME:CET
DTSTART:20231029T010000
END:STANDARD
BEGIN:DAYLIGHT
TZOFFSETFROM:+0100
TZOFFSETTO:+0200
TZNAME:CEST
DTSTART:20240331T010000
END:DAYLIGHT
BEGIN:STANDARD
TZOFFSETFROM:+0200
TZOFFSETTO:+0100
TZNAME:CET
DTSTART:20241027T010000
END:STANDARD
BEGIN:DAYLIGHT
TZOFFSETFROM:+0100
TZOFFSETTO:+0200
TZNAME:CEST
DTSTART:20250330T010000
END:DAYLIGHT
BEGIN:STANDARD
TZOFFSETFROM:+0200
TZOFFSETTO:+0100
TZNAME:CET
DTSTART:20251026T010000
END:STANDARD
END:VTIMEZONE
BEGIN:VEVENT
DTSTART;TZID=Europe/Vienna:20241003T190000
DTEND;TZID=Europe/Vienna:20241003T213000
DTSTAMP:20260422T024521
CREATED:20240925T111507Z
LAST-MODIFIED:20240925T111546Z
UID:27202-1727982000-1727991000@shaneofearghail.com
SUMMARY:EVANGELISCHE KIRCHE MEHR
DESCRIPTION:Shane Solo live at Evangelische Kirche Mehr. \nThe Evangelische Kirche in Mehr is a beautiful old church\, perfect for songs. An eclectic space with wonderful acoustics. Shane’s will play a more introspective Singer-Songwriter set\, dipping into Irish and Dark Folk. Original songs only. This event is Hutgeld.
URL:https://shaneofearghail.com/shows/evangelische-kirche-mehr/
ATTACH;FMTTYPE=image/jpeg:https://shaneofearghail.com/wp-content/uploads/2024/09/Shane-SoMe-square-scaled.jpg
END:VEVENT
BEGIN:VEVENT
DTSTART;TZID=Europe/Vienna:20241004T193000
DTEND;TZID=Europe/Vienna:20241004T220000
DTSTAMP:20260422T024522
CREATED:20240925T104034Z
LAST-MODIFIED:20240925T104534Z
UID:27196-1728070200-1728079200@shaneofearghail.com
SUMMARY:LANDGASTHOF BORGHEES
DESCRIPTION:Shane Solo live at Landgasthof Borghees. \nAn amazing venue with incredible food\, Landgasthof Borghees has that ingredient you just manufacture. Home and heart. The best place for songs and ballads. Shane’s set will be Singer-Songwriter\, Irish\, Folk with some contemporary covers. This event is Hutgeld.
URL:https://shaneofearghail.com/shows/landgasthof-borghees-2/
LOCATION:LANDGASTHOF BORGHEES\, Emmerich am Rhein\, Germany
ATTACH;FMTTYPE=image/jpeg:https://shaneofearghail.com/wp-content/uploads/2024/09/Shane-SoMe-square-scaled.jpg
END:VEVENT
BEGIN:VEVENT
DTSTART;VALUE=DATE:20241006
DTEND;VALUE=DATE:20241007
DTSTAMP:20260422T024522
CREATED:20240614T173631Z
LAST-MODIFIED:20240925T111946Z
UID:27093-1728172800-1728259199@shaneofearghail.com
SUMMARY:HUISKAMERFESTIVAL GENDRINGEN
DESCRIPTION:At HUISKAMERFESTIVAL GENDRINGEN – Shane plays solo in the Netherlands best kept songwriting secret. \n3 Performances – Each 30 minutes\nShane stays at the same location (2 pm\, 3pm\, 4pm) – listeners can pick three different gigs or stay for three Shane sets. \nAll three shows are sold out!
URL:https://shaneofearghail.com/shows/huiskamerfestival-gendringen/
ATTACH;FMTTYPE=image/png:https://shaneofearghail.com/wp-content/uploads/2024/06/Huiskamer-festival-gendringen-logo-300x300-1.png
END:VEVENT
BEGIN:VEVENT
DTSTART;TZID=Europe/Vienna:20241012T160000
DTEND;TZID=Europe/Vienna:20241012T160000
DTSTAMP:20260422T024522
CREATED:20240824T134943Z
LAST-MODIFIED:20240824T135117Z
UID:27184-1728748800-1728748800@shaneofearghail.com
SUMMARY:JAMESON CONNECTS AUSTRIA 2024
DESCRIPTION:SHANE & THE HOST LIVE IN VIENNA \nAm 12. Oktober kehrt Jameson Connects nach Wien zurück! Das einzigartig\nFestivalformat verbindet Musik-\, Street Food- und Whisky-Liebhaber:innen\ngleichermaßen. Nach dem Erfolg im letzten Jahr wird das 1-Tages-Festival\nheuer noch größer\, bunter und aufregender. \nDas Line-Up verspricht ein unvergessliches Erlebnis: Kytes\, Sharktank\, Naked\nCameo und Shane Ó Fearghail & the Host sorgen in der Ballonhalle für\nStimmung\, während RAHEL\, Toby Whyle und Luca Malina die Outdoor-Bühne\nzum Beben bringen. \nBesucher können sich außerdem auf lustige Spiele\, Food Trucks (mit veganen Optionen)\nund die besten Jameson Drinks freuen. Das Festival bleibt eine\noffene Einladung\, spontane und glückliche Momente in der Welt von Jameson\nzu erleben. \nNeben den Konzerten erwarten die Gäste Connecting Activities\, ein Jameson-\nMerch Store\, ein Graveur für individuell gestaltete Flaschen oder ein Pop-up\nBarber für kostenlose Haarschnitte. \nJameson Connects bringt zusammen\, was zusammengehört: good people\,\ngood music und good vibes – am 12. Oktober 2024 in der Ballonhalle!
URL:https://shaneofearghail.com/shows/jameson-connects-austria-2024/
LOCATION:Ballonhalle\, Vienna\, Austria
ATTACH;FMTTYPE=image/png:https://shaneofearghail.com/wp-content/uploads/2024/08/JAC_ShaneOFearghail_12082024_v1_1080x1080.png
END:VEVENT
END:VCALENDAR