BEGIN:VCALENDAR
VERSION:2.0
PRODID:-//Shane O Fearghail - ECPv6.15.20//NONSGML v1.0//EN
CALSCALE:GREGORIAN
METHOD:PUBLISH
X-WR-CALNAME:Shane O Fearghail
X-ORIGINAL-URL:https://shaneofearghail.com
X-WR-CALDESC:Events for Shane O Fearghail
REFRESH-INTERVAL;VALUE=DURATION:PT1H
X-Robots-Tag:noindex
X-PUBLISHED-TTL:PT1H
BEGIN:VTIMEZONE
TZID:Europe/Vienna
BEGIN:DAYLIGHT
TZOFFSETFROM:+0100
TZOFFSETTO:+0200
TZNAME:CEST
DTSTART:20230326T010000
END:DAYLIGHT
BEGIN:STANDARD
TZOFFSETFROM:+0200
TZOFFSETTO:+0100
TZNAME:CET
DTSTART:20231029T010000
END:STANDARD
BEGIN:DAYLIGHT
TZOFFSETFROM:+0100
TZOFFSETTO:+0200
TZNAME:CEST
DTSTART:20240331T010000
END:DAYLIGHT
BEGIN:STANDARD
TZOFFSETFROM:+0200
TZOFFSETTO:+0100
TZNAME:CET
DTSTART:20241027T010000
END:STANDARD
BEGIN:DAYLIGHT
TZOFFSETFROM:+0100
TZOFFSETTO:+0200
TZNAME:CEST
DTSTART:20250330T010000
END:DAYLIGHT
BEGIN:STANDARD
TZOFFSETFROM:+0200
TZOFFSETTO:+0100
TZNAME:CET
DTSTART:20251026T010000
END:STANDARD
END:VTIMEZONE
BEGIN:VEVENT
DTSTART;TZID=Europe/Vienna:20240907T200000
DTEND;TZID=Europe/Vienna:20240907T220000
DTSTAMP:20260423T224205
CREATED:20240325T134413Z
LAST-MODIFIED:20240824T133749Z
UID:26984-1725739200-1725746400@shaneofearghail.com
SUMMARY:DORFFEST BIESTE - 900 Jahre Anniversary Festival
DESCRIPTION:Shane Ó Fearghail & The Host pay live at the 900 Jahre Bieste Festival. We will all be celebrating old age. Why not come and join us for some real footstomping shennagins\, and just damn good songs. It’s been a quiet summer. The Host and Shane are really looking forward to this one. Like “greyhounds out of a trap”\, might be a fitting analogy. Get your tickets while they are still going… we think! \nShane and the band will also play alongside Germany’s best kept secret herr “Bruni”. \nTickets available via Dorfgemeinschaft Bieste. Remaining tickets at the door.
URL:https://shaneofearghail.com/shows/dorffest-bieste/
LOCATION:Dorfplatz Bieste\, Bieste-Westendorf 36\, Rieste\, 49597\, Germany
CATEGORIES:Band
ATTACH;FMTTYPE=image/jpeg:https://shaneofearghail.com/wp-content/uploads/2024/03/nAzzWiJx.jpeg
END:VEVENT
END:VCALENDAR