BEGIN:VCALENDAR
VERSION:2.0
PRODID:-//Shane O Fearghail - ECPv6.15.20//NONSGML v1.0//EN
CALSCALE:GREGORIAN
METHOD:PUBLISH
X-WR-CALNAME:Shane O Fearghail
X-ORIGINAL-URL:https://shaneofearghail.com
X-WR-CALDESC:Events for Shane O Fearghail
REFRESH-INTERVAL;VALUE=DURATION:PT1H
X-Robots-Tag:noindex
X-PUBLISHED-TTL:PT1H
BEGIN:VTIMEZONE
TZID:Europe/Vienna
BEGIN:DAYLIGHT
TZOFFSETFROM:+0100
TZOFFSETTO:+0200
TZNAME:CEST
DTSTART:20230326T010000
END:DAYLIGHT
BEGIN:STANDARD
TZOFFSETFROM:+0200
TZOFFSETTO:+0100
TZNAME:CET
DTSTART:20231029T010000
END:STANDARD
BEGIN:DAYLIGHT
TZOFFSETFROM:+0100
TZOFFSETTO:+0200
TZNAME:CEST
DTSTART:20240331T010000
END:DAYLIGHT
BEGIN:STANDARD
TZOFFSETFROM:+0200
TZOFFSETTO:+0100
TZNAME:CET
DTSTART:20241027T010000
END:STANDARD
BEGIN:DAYLIGHT
TZOFFSETFROM:+0100
TZOFFSETTO:+0200
TZNAME:CEST
DTSTART:20250330T010000
END:DAYLIGHT
BEGIN:STANDARD
TZOFFSETFROM:+0200
TZOFFSETTO:+0100
TZNAME:CET
DTSTART:20251026T010000
END:STANDARD
END:VTIMEZONE
BEGIN:VEVENT
DTSTART;TZID=Europe/Vienna:20240713T190000
DTEND;TZID=Europe/Vienna:20240713T213000
DTSTAMP:20260424T160748
CREATED:20240325T124340Z
LAST-MODIFIED:20240614T172139Z
UID:26965-1720897200-1720906200@shaneofearghail.com
SUMMARY:SINGER-SONGWRITER FEST - Cancelled
DESCRIPTION:Shane Ó Fearghail & The Host\nDue to unforeseen circumstances – Shane & The Band cannot play this years Fest.\nApologies for any inconvenience caused.
URL:https://shaneofearghail.com/shows/singer-songwriter-fest/
LOCATION:Wojtun\, Menslage\, Germany
END:VEVENT
END:VCALENDAR