BEGIN:VCALENDAR
VERSION:2.0
PRODID:-//Shane O Fearghail - ECPv6.15.20//NONSGML v1.0//EN
CALSCALE:GREGORIAN
METHOD:PUBLISH
X-ORIGINAL-URL:https://shaneofearghail.com
X-WR-CALDESC:Events for Shane O Fearghail
REFRESH-INTERVAL;VALUE=DURATION:PT1H
X-Robots-Tag:noindex
X-PUBLISHED-TTL:PT1H
BEGIN:VTIMEZONE
TZID:Europe/Vienna
BEGIN:DAYLIGHT
TZOFFSETFROM:+0100
TZOFFSETTO:+0200
TZNAME:CEST
DTSTART:20230326T010000
END:DAYLIGHT
BEGIN:STANDARD
TZOFFSETFROM:+0200
TZOFFSETTO:+0100
TZNAME:CET
DTSTART:20231029T010000
END:STANDARD
BEGIN:DAYLIGHT
TZOFFSETFROM:+0100
TZOFFSETTO:+0200
TZNAME:CEST
DTSTART:20240331T010000
END:DAYLIGHT
BEGIN:STANDARD
TZOFFSETFROM:+0200
TZOFFSETTO:+0100
TZNAME:CET
DTSTART:20241027T010000
END:STANDARD
BEGIN:DAYLIGHT
TZOFFSETFROM:+0100
TZOFFSETTO:+0200
TZNAME:CEST
DTSTART:20250330T010000
END:DAYLIGHT
BEGIN:STANDARD
TZOFFSETFROM:+0200
TZOFFSETTO:+0100
TZNAME:CET
DTSTART:20251026T010000
END:STANDARD
END:VTIMEZONE
BEGIN:VEVENT
DTSTART;TZID=Europe/Vienna:20240614T051959
DTEND;TZID=Europe/Vienna:20240614T171959
DTSTAMP:20260424T183042
CREATED:20240325T134924Z
LAST-MODIFIED:20240614T171959Z
UID:26988-1718342399-1718385599@shaneofearghail.com
SUMMARY:CHARITY OPEN AIR FEST- Re-scheduled to 2025
DESCRIPTION:Shane Ó Fearghail & The Host.\nRe-scheduled to 2025
URL:https://shaneofearghail.com/shows/open-air-fest/
LOCATION:Espelkamp\, Germany
END:VEVENT
BEGIN:VEVENT
DTSTART;TZID=Europe/Vienna:20240614T171754
DTEND;TZID=Europe/Vienna:20240614T171754
DTSTAMP:20260424T183042
CREATED:20240325T125618Z
LAST-MODIFIED:20240614T171754Z
UID:26973-1718385474-1718385474@shaneofearghail.com
SUMMARY:LIVE AT THE KULTURETAGE - (to be re-scheduled)
DESCRIPTION:Shane Ó Fearghail & The Host\nTo be re-scheduled
URL:https://shaneofearghail.com/shows/live-at-the-kulturetage/
LOCATION:Kulturetage\, Kolpingstraße 9\, Ankum\, 49577\, Germany
END:VEVENT
BEGIN:VEVENT
DTSTART;TZID=Europe/Vienna:20240614T190000
DTEND;TZID=Europe/Vienna:20240614T230000
DTSTAMP:20260424T183042
CREATED:20241213T230007Z
LAST-MODIFIED:20240614T171614Z
UID:27014-1718391600-1718406000@shaneofearghail.com
SUMMARY:SCHÖNBERG SUMMER PARTY (Re-scheduled)
DESCRIPTION:Shane Ó Fearghail & The Host  Live in Schönberg\nTime: To be confirmed
URL:https://shaneofearghail.com/shows/schonberg-summer-party/
LOCATION:Papperl a Pub\, Schönberg am Kamp
END:VEVENT
END:VCALENDAR