BEGIN:VCALENDAR
VERSION:2.0
PRODID:-//Shane O Fearghail - ECPv6.15.20//NONSGML v1.0//EN
CALSCALE:GREGORIAN
METHOD:PUBLISH
X-ORIGINAL-URL:https://shaneofearghail.com
X-WR-CALDESC:Events for Shane O Fearghail
REFRESH-INTERVAL;VALUE=DURATION:PT1H
X-Robots-Tag:noindex
X-PUBLISHED-TTL:PT1H
BEGIN:VTIMEZONE
TZID:Europe/Vienna
BEGIN:DAYLIGHT
TZOFFSETFROM:+0100
TZOFFSETTO:+0200
TZNAME:CEST
DTSTART:20230326T010000
END:DAYLIGHT
BEGIN:STANDARD
TZOFFSETFROM:+0200
TZOFFSETTO:+0100
TZNAME:CET
DTSTART:20231029T010000
END:STANDARD
BEGIN:DAYLIGHT
TZOFFSETFROM:+0100
TZOFFSETTO:+0200
TZNAME:CEST
DTSTART:20240331T010000
END:DAYLIGHT
BEGIN:STANDARD
TZOFFSETFROM:+0200
TZOFFSETTO:+0100
TZNAME:CET
DTSTART:20241027T010000
END:STANDARD
BEGIN:DAYLIGHT
TZOFFSETFROM:+0100
TZOFFSETTO:+0200
TZNAME:CEST
DTSTART:20250330T010000
END:DAYLIGHT
BEGIN:STANDARD
TZOFFSETFROM:+0200
TZOFFSETTO:+0100
TZNAME:CET
DTSTART:20251026T010000
END:STANDARD
END:VTIMEZONE
BEGIN:VEVENT
DTSTART;TZID=Europe/Vienna:20240316T210000
DTEND;TZID=Europe/Vienna:20240316T233000
DTSTAMP:20260424T233320
CREATED:20240325T123301Z
LAST-MODIFIED:20240325T123356Z
UID:26961-1710622800-1710631800@shaneofearghail.com
SUMMARY:St Patrick's At Wombats
DESCRIPTION:Shane & Claudia play a full on Irish set at Wombats: Free Entry
URL:https://shaneofearghail.com/shows/st-patricks-at-wombats/
LOCATION:Wombats Vienna\, Rechte Wienzeile 35\, Vienna\, Austria
END:VEVENT
END:VCALENDAR