BEGIN:VCALENDAR
VERSION:2.0
PRODID:-//Shane O Fearghail - ECPv6.15.20//NONSGML v1.0//EN
CALSCALE:GREGORIAN
METHOD:PUBLISH
X-ORIGINAL-URL:https://shaneofearghail.com
X-WR-CALDESC:Events for Shane O Fearghail
REFRESH-INTERVAL;VALUE=DURATION:PT1H
X-Robots-Tag:noindex
X-PUBLISHED-TTL:PT1H
BEGIN:VTIMEZONE
TZID:Europe/Vienna
BEGIN:DAYLIGHT
TZOFFSETFROM:+0100
TZOFFSETTO:+0200
TZNAME:CEST
DTSTART:20230326T010000
END:DAYLIGHT
BEGIN:STANDARD
TZOFFSETFROM:+0200
TZOFFSETTO:+0100
TZNAME:CET
DTSTART:20231029T010000
END:STANDARD
BEGIN:DAYLIGHT
TZOFFSETFROM:+0100
TZOFFSETTO:+0200
TZNAME:CEST
DTSTART:20240331T010000
END:DAYLIGHT
BEGIN:STANDARD
TZOFFSETFROM:+0200
TZOFFSETTO:+0100
TZNAME:CET
DTSTART:20241027T010000
END:STANDARD
BEGIN:DAYLIGHT
TZOFFSETFROM:+0100
TZOFFSETTO:+0200
TZNAME:CEST
DTSTART:20250330T010000
END:DAYLIGHT
BEGIN:STANDARD
TZOFFSETFROM:+0200
TZOFFSETTO:+0100
TZNAME:CET
DTSTART:20251026T010000
END:STANDARD
END:VTIMEZONE
BEGIN:VEVENT
DTSTART;TZID=Europe/Vienna:20240218T150000
DTEND;TZID=Europe/Vienna:20240218T170000
DTSTAMP:20260425T011938
CREATED:20240112T204456Z
LAST-MODIFIED:20240325T122810Z
UID:26916-1708268400-1708275600@shaneofearghail.com
SUMMARY:It's Still A Secret
DESCRIPTION:Shane plays a solo afternoon promo show at the live gem that is ‘It’s Still A Secret’; one of Brisbane’s premier live event.\nSupport Francesa De Valence. Free Entry
URL:https://shaneofearghail.com/shows/its-still-a-secret/
LOCATION:It’s still a secret\, Brisbane\, Australia
END:VEVENT
END:VCALENDAR